BEGIN:VCALENDAR
VERSION:2.0
PRODID:-//VOA Florida - ECPv6.15.20//NONSGML v1.0//EN
CALSCALE:GREGORIAN
METHOD:PUBLISH
X-ORIGINAL-URL:https://www.voaflorida.org
X-WR-CALDESC:Events for VOA Florida
REFRESH-INTERVAL;VALUE=DURATION:PT1H
X-Robots-Tag:noindex
X-PUBLISHED-TTL:PT1H
BEGIN:VTIMEZONE
TZID:UTC
BEGIN:STANDARD
TZOFFSETFROM:+0000
TZOFFSETTO:+0000
TZNAME:UTC
DTSTART:20250101T000000
END:STANDARD
END:VTIMEZONE
BEGIN:VEVENT
DTSTART;TZID=UTC:20260130T100000
DTEND;TZID=UTC:20260130T130000
DTSTAMP:20260424T155041
CREATED:20250811T203611Z
LAST-MODIFIED:20251121T125634Z
UID:10000032-1769767200-1769778000@www.voaflorida.org
SUMMARY:Interfaith Panel on Grief and Loss
DESCRIPTION:Join us for a unique hybrid event where you can participate in person or virtually. \nEngage with diverse faith-based panelists who will share how grief is addressed from their faith perspective. \nThe panel session will be followed by small breakout sessions\, encouraging personal interactions and deeper discussions. \nVirtual Attendance: Engage online through our live-stream. A link will be provided upon registration. \n  \n\nFoster understanding across different faiths practices related to grief.\nGain inspiration from a variety of spiritual viewpoints.\nParticipate in open\, heartfelt dialogue.\nBuild meaningful ties within your community.\n\nLight refreshments will be provided for all in person attendees to enjoy as we foster dialogue and understanding. \nClick Here to Reserve Your Space \nNavigating the Journey Interfaith Dialogue on Grief & Loss Flyer
URL:https://www.voaflorida.org/event/interfaith-panel-on-grief-loss/
LOCATION:Bill Posey Conference Center of the Florida Department of Health\, 2555 Judge Fran Jamieson Way\, Viera\, Florida\, 32940
ATTACH;FMTTYPE=image/png:https://www.voaflorida.org/wp-content/uploads/sites/22/2025/08/Navigating-the-Journey-Interfaith-Dialogue-on-Grief-Loss-4.png
ORGANIZER;CN="Volunteers of America of Florida":MAILTO:svranich@voa-fla.org
END:VEVENT
END:VCALENDAR