BEGIN:VCALENDAR
VERSION:2.0
PRODID:-//VOA Florida - ECPv6.15.20//NONSGML v1.0//EN
CALSCALE:GREGORIAN
METHOD:PUBLISH
X-ORIGINAL-URL:https://www.voaflorida.org
X-WR-CALDESC:Events for VOA Florida
REFRESH-INTERVAL;VALUE=DURATION:PT1H
X-Robots-Tag:noindex
X-PUBLISHED-TTL:PT1H
BEGIN:VTIMEZONE
TZID:UTC
BEGIN:STANDARD
TZOFFSETFROM:+0000
TZOFFSETTO:+0000
TZNAME:UTC
DTSTART:20240101T000000
END:STANDARD
END:VTIMEZONE
BEGIN:VEVENT
DTSTART;TZID=UTC:20251216T173000
DTEND;TZID=UTC:20251216T190000
DTSTAMP:20260424T155205
CREATED:20251211T184134Z
LAST-MODIFIED:20251215T134241Z
UID:10000048-1765906200-1765911600@www.voaflorida.org
SUMMARY:Holiday Touchdown Food Giveaway at James Cole Village
DESCRIPTION: Holiday Touchdown Food Giveaway at James Cole Village! \n\nHosted by Volunteers of America of Florida\, UnitedHealthcare Community Plan of Florida\, and Graham Barton of the Tampa Bay Buccaneers\n\nJoin us for a FREE drive-thru holiday food distribution to support families in our community this season. Each vehicle will receive one holiday food box filled with a turkey\, fresh produce\, pantry staples\, and festive meal items while supplies last.\n\nA special thank-you to Metropolitan Ministries for providing holiday meal essentials to help families enjoy a warm\, nutritious celebration.\n\n Tuesday\, December 16\, 2025 5:30 PM – 7:00 PM James Cole Village\, 4011 N. 39th St.\, Tampa\, FL 33610\n\nThis event is first come\, first served.\n\nstaff will be onsite to help with traffic flow and ensure a smooth\, safe distribution
URL:https://www.voaflorida.org/event/holidaytouchdownfoodgiveaway/
LOCATION:James Cole Villiage\, 4011 N 39th St\, Tampa\, FL\, United States
ATTACH;FMTTYPE=image/png:https://www.voaflorida.org/wp-content/uploads/sites/22/2025/12/Holiday-Touchdown-Event.png
ORGANIZER;CN="Volunteers of America of Florida":MAILTO:svranich@voa-fla.org
END:VEVENT
END:VCALENDAR