BEGIN:VCALENDAR
VERSION:2.0
PRODID:-//VOA Florida - ECPv6.15.20//NONSGML v1.0//EN
CALSCALE:GREGORIAN
METHOD:PUBLISH
X-ORIGINAL-URL:https://www.voaflorida.org
X-WR-CALDESC:Events for VOA Florida
REFRESH-INTERVAL;VALUE=DURATION:PT1H
X-Robots-Tag:noindex
X-PUBLISHED-TTL:PT1H
BEGIN:VTIMEZONE
TZID:UTC
BEGIN:STANDARD
TZOFFSETFROM:+0000
TZOFFSETTO:+0000
TZNAME:UTC
DTSTART:20250101T000000
END:STANDARD
END:VTIMEZONE
BEGIN:VEVENT
DTSTART;TZID=UTC:20260221T100000
DTEND;TZID=UTC:20260221T100000
DTSTAMP:20260424T121722
CREATED:20251024T133343Z
LAST-MODIFIED:20251024T185635Z
UID:10000043-1771668000-1771668000@www.voaflorida.org
SUMMARY:Swing Fore Heroes: Restoring the Ritz
DESCRIPTION:Tee off to support veterans at Volunteers of America Florida’s Swing Fore Heroes golf event! This exciting fundraiser benefits the Restore the Ritz Capital Campaign\, dedicated to renovating transitional housing for homeless veterans in Ocala. \nEvent Includes: \n18 holes of golf with cart\nGolf swag\nFood & Awards reception\nFun contests\, chance drawings\, and more!\nCost: $400 per foursome \nGather your team and join us for a day of great golf\, camaraderie\, and making a real impact for our heroes. Together\, let’s restore the Ritz and restore hope! \nFor more info: Swing Fore Heroes: Restoring the Ritz – VOA Florida
URL:https://www.voaflorida.org/event/swing-fore-heroes-restoring-the-ritz/
LOCATION:Ocala National Golf Club\, 4782 NW 80th Ave\, Ocala\, 34482\, United States
ATTACH;FMTTYPE=image/png:https://www.voaflorida.org/wp-content/uploads/sites/22/2025/10/FY-26-Event-VOAF-Golf-Flyer-3.png
END:VEVENT
END:VCALENDAR